BEGIN:VCALENDAR
VERSION:2.0
PRODID:-//Maranatha Bible Missionary Conference, Vacation &amp; Retreat Center - ECPv6.11.0.1//NONSGML v1.0//EN
CALSCALE:GREGORIAN
METHOD:PUBLISH
X-ORIGINAL-URL:https://maranathamichigan.org
X-WR-CALDESC:Events for Maranatha Bible Missionary Conference, Vacation &amp; Retreat Center
REFRESH-INTERVAL;VALUE=DURATION:PT1H
X-Robots-Tag:noindex
X-PUBLISHED-TTL:PT1H
BEGIN:VTIMEZONE
TZID:America/New_York
BEGIN:DAYLIGHT
TZOFFSETFROM:-0500
TZOFFSETTO:-0400
TZNAME:EDT
DTSTART:20250309T070000
END:DAYLIGHT
BEGIN:STANDARD
TZOFFSETFROM:-0400
TZOFFSETTO:-0500
TZNAME:EST
DTSTART:20251102T060000
END:STANDARD
END:VTIMEZONE
BEGIN:VEVENT
DTSTART;TZID=America/New_York:20250719T190000
DTEND;TZID=America/New_York:20250719T210000
DTSTAMP:20260420T122223
CREATED:20240930T164330Z
LAST-MODIFIED:20250617T182836Z
UID:10000078-1752951600-1752958800@maranathamichigan.org
SUMMARY:Josh Wilson
DESCRIPTION:[vc_row type=”in_container” full_screen_row_position=”middle” column_margin=”default” column_direction=”default” column_direction_tablet=”default” column_direction_phone=”default” scene_position=”center” text_color=”dark” text_align=”left” row_border_radius=”none” row_border_radius_applies=”bg” overflow=”visible” overlay_strength=”0.3″ gradient_direction=”left_to_right” shape_divider_position=”bottom” bg_image_animation=”none”][vc_column column_padding=”no-extra-padding” column_padding_tablet=”inherit” column_padding_phone=”inherit” column_padding_position=”all” column_element_direction_desktop=”default” column_element_spacing=”default” desktop_text_alignment=”default” tablet_text_alignment=”default” phone_text_alignment=”default” background_color_opacity=”1″ background_hover_color_opacity=”1″ column_backdrop_filter=”none” column_shadow=”none” column_border_radius=”none” column_link_target=”_self” column_position=”default” gradient_direction=”left_to_right” overlay_strength=”0.3″ width=”1/1″ tablet_width_inherit=”default” animation_type=”default” bg_image_animation=”none” border_type=”simple” column_border_width=”none” column_border_style=”solid”][vc_column_text text_direction=”default”]Texas-native Josh Wilson began his musical journey at the age of nine\, mastering piano\, guitar\, and drums before falling in love with songwriting at Nashville’s Belmont University. Since signing with Sparrow Records in 2006\, Wilson has amassed numerous top 10 Billboard hits\, including “Savior\, Please” and “Revolutionary.” A self-described introvert\, he never imagined being the one behind the mic\, but God had other plans. Wilson has toured with major acts like Third Day and Casting Crowns\, and continues to write\, record\, and perform. Known for his live-looping performances\, Wilson often plays and records up to 20 instruments during his shows. \nSaturday Night Concert Dinners are non-refundable and non-transferable to other Saturday Night Concert Dinners.\n[/vc_column_text][nectar_btn size=”jumbo” button_style=”regular” button_color_2=”Accent-Color” color_override=”#175f48″ solid_text_color_override=”#ffffff” icon_family=”none” text=”Purchase Dinner & Early Entry Tickets Here” url=”https://maranathamichigan.churchcenter.com/registrations/events/2885489″][/vc_column][/vc_row][vc_row type=”in_container” full_screen_row_position=”middle” column_margin=”default” column_direction=”default” column_direction_tablet=”default” column_direction_phone=”default” scene_position=”center” text_color=”dark” text_align=”left” row_border_radius=”none” row_border_radius_applies=”bg” overflow=”visible” overlay_strength=”0.3″ gradient_direction=”left_to_right” shape_divider_position=”bottom” bg_image_animation=”none”][vc_column column_padding=”no-extra-padding” column_padding_tablet=”inherit” column_padding_phone=”inherit” column_padding_position=”all” column_element_direction_desktop=”default” column_element_spacing=”default” desktop_text_alignment=”default” tablet_text_alignment=”default” phone_text_alignment=”default” background_color_opacity=”1″ background_hover_color_opacity=”1″ column_backdrop_filter=”none” column_shadow=”none” column_border_radius=”none” column_link_target=”_self” column_position=”default” gradient_direction=”left_to_right” overlay_strength=”0.3″ width=”1/1″ tablet_width_inherit=”default” animation_type=”default” bg_image_animation=”none” border_type=”simple” column_border_width=”none” column_border_style=”solid”][image_with_animation image_url=”7255″ image_size=”medium” animation_type=”entrance” animation=”None” animation_movement_type=”transform_y” hover_animation=”none” alignment=”center” border_radius=”none” box_shadow=”none” image_loading=”default” max_width=”100%” max_width_mobile=”default”][/vc_column][/vc_row]
URL:https://maranathamichigan.org/event/josh-wilson/
LOCATION:Maranatha\, 4759 Lake Harbor Road\, Norton Shores\, MI\, 49441\, United States
CATEGORIES:General,Summer Concert Series
ATTACH;FMTTYPE=image/png:https://maranathamichigan.org/wp-content/uploads/2024/09/5.Josh-Wilson.png
ORGANIZER;CN="Maranatha":MAILTO:info@maranathamichigan.org
END:VEVENT
END:VCALENDAR