BEGIN:VCALENDAR
VERSION:2.0
PRODID:-//Maranatha Bible Missionary Conference, Vacation &amp; Retreat Center - ECPv6.11.0.1//NONSGML v1.0//EN
CALSCALE:GREGORIAN
METHOD:PUBLISH
X-WR-CALNAME:Maranatha Bible Missionary Conference, Vacation &amp; Retreat Center
X-ORIGINAL-URL:https://maranathamichigan.org
X-WR-CALDESC:Events for Maranatha Bible Missionary Conference, Vacation &amp; Retreat Center
REFRESH-INTERVAL;VALUE=DURATION:PT1H
X-Robots-Tag:noindex
X-PUBLISHED-TTL:PT1H
BEGIN:VTIMEZONE
TZID:UTC
BEGIN:STANDARD
TZOFFSETFROM:+0000
TZOFFSETTO:+0000
TZNAME:UTC
DTSTART:20240101T000000
END:STANDARD
END:VTIMEZONE
BEGIN:VEVENT
DTSTART;VALUE=DATE:20240507
DTEND;VALUE=DATE:20240508
DTSTAMP:20260420T044656
CREATED:20240320T202854Z
LAST-MODIFIED:20240402T171157Z
UID:10000019-1715040000-1715126399@maranathamichigan.org
SUMMARY:Spring Senior's Retreat
DESCRIPTION:Enjoy several sessions of Bible teaching\, worship\, fellowship\, a trip to Frederik Meijer Gardens\, and a Maranatha concert dinner\, with other adults ages 65 and older. \nFeaturing Bible teacher Bill Crowder & Worship Leader Gary Matthews with hosts Francine Busch and Gary & Diane Feenstra. \nTHURSDAY’S DAY TRIP INCLUDES:\n• Frederik Meijer Gardens\n• Guided Tram Tour of the Gardens\n• Boxed Lunches\n• Dinner at Maranatha\n• Gary & Martha Matthews Concert at Maranatha \nCall 231.798.2161 for Registration & Group Discounts.
URL:https://maranathamichigan.org/event/spring-seniors-retreat/
LOCATION:Maranatha\, 4759 Lake Harbor Road\, Norton Shores\, MI\, 49441\, United States
CATEGORIES:General,Retreats
ATTACH;FMTTYPE=image/jpeg:https://maranathamichigan.org/wp-content/uploads/2023/04/248088_SpringRetreat_web.jpg
ORGANIZER;CN="Maranatha":MAILTO:info@maranathamichigan.org
END:VEVENT
END:VCALENDAR