BEGIN:VCALENDAR
VERSION:2.0
PRODID:-//Maranatha Bible Missionary Conference, Vacation &amp; Retreat Center - ECPv6.11.0.1//NONSGML v1.0//EN
CALSCALE:GREGORIAN
METHOD:PUBLISH
X-ORIGINAL-URL:https://maranathamichigan.org
X-WR-CALDESC:Events for Maranatha Bible Missionary Conference, Vacation &amp; Retreat Center
REFRESH-INTERVAL;VALUE=DURATION:PT1H
X-Robots-Tag:noindex
X-PUBLISHED-TTL:PT1H
BEGIN:VTIMEZONE
TZID:America/New_York
BEGIN:DAYLIGHT
TZOFFSETFROM:-0500
TZOFFSETTO:-0400
TZNAME:EDT
DTSTART:20250309T070000
END:DAYLIGHT
BEGIN:STANDARD
TZOFFSETFROM:-0400
TZOFFSETTO:-0500
TZNAME:EST
DTSTART:20251102T060000
END:STANDARD
END:VTIMEZONE
BEGIN:VEVENT
DTSTART;TZID=America/New_York:20250628T190000
DTEND;TZID=America/New_York:20250628T210000
DTSTAMP:20260422T232300
CREATED:20240930T164357Z
LAST-MODIFIED:20250617T161231Z
UID:10000079-1751137200-1751144400@maranathamichigan.org
SUMMARY:Selah
DESCRIPTION:[vc_row type=”in_container” full_screen_row_position=”middle” column_margin=”default” column_direction=”default” column_direction_tablet=”default” column_direction_phone=”default” scene_position=”center” text_color=”dark” text_align=”left” row_border_radius=”none” row_border_radius_applies=”bg” overflow=”visible” overlay_strength=”0.3″ gradient_direction=”left_to_right” shape_divider_position=”bottom” bg_image_animation=”none”][vc_column column_padding=”no-extra-padding” column_padding_tablet=”inherit” column_padding_phone=”inherit” column_padding_position=”all” column_element_direction_desktop=”default” column_element_spacing=”default” desktop_text_alignment=”default” tablet_text_alignment=”default” phone_text_alignment=”default” background_color_opacity=”1″ background_hover_color_opacity=”1″ column_backdrop_filter=”none” column_shadow=”none” column_border_radius=”none” column_link_target=”_self” column_position=”default” gradient_direction=”left_to_right” overlay_strength=”0.3″ width=”1/1″ tablet_width_inherit=”default” animation_type=”default” bg_image_animation=”none” border_type=”simple” column_border_width=”none” column_border_style=”solid”][vc_column_text text_direction=”default”]Since the release of their debut album Be Still My Soul\, Selah has become one of the most beloved groups in Christian music. With over 900 million streams and more than 4 million albums sold\, their genre-spanning renditions of hymns and inspirational classics\, as well as original music\, have offered hope and healing for 26 years. Notable career highlights include performances at Carnegie Hall\, the U.S. Capitol\, and the Grand Ole Opry. Their iconic songs include “You Raise Me Up” and “You Amaze Us\,” among many others. The trio\, comprised of Todd Smith\, Allan Hall\, and Amy Perry\, has won 11 Dove Awards and two Gold-certified albums. \nSaturday Night Concert Dinners are non-refundable and non-transferable to other Saturday Night Concert Dinners.\n[/vc_column_text][nectar_btn size=”jumbo” button_style=”regular” button_color_2=”Accent-Color” color_override=”#175f48″ solid_text_color_override=”#ffffff” icon_family=”none” text=”Purchase Dinner & Early Entry Tickets Here” url=”https://maranathamichigan.churchcenter.com/registrations/events/2885469″][/vc_column][/vc_row][vc_row type=”in_container” full_screen_row_position=”middle” column_margin=”default” column_direction=”default” column_direction_tablet=”default” column_direction_phone=”default” scene_position=”center” text_color=”dark” text_align=”left” row_border_radius=”none” row_border_radius_applies=”bg” overflow=”visible” overlay_strength=”0.3″ gradient_direction=”left_to_right” shape_divider_position=”bottom” bg_image_animation=”none”][vc_column column_padding=”no-extra-padding” column_padding_tablet=”inherit” column_padding_phone=”inherit” column_padding_position=”all” column_element_direction_desktop=”default” column_element_spacing=”default” desktop_text_alignment=”default” tablet_text_alignment=”default” phone_text_alignment=”default” background_color_opacity=”1″ background_hover_color_opacity=”1″ column_backdrop_filter=”none” column_shadow=”none” column_border_radius=”none” column_link_target=”_self” column_position=”default” gradient_direction=”left_to_right” overlay_strength=”0.3″ width=”1/1″ tablet_width_inherit=”default” animation_type=”default” bg_image_animation=”none” border_type=”simple” column_border_width=”none” column_border_style=”solid”][image_with_animation image_url=”7255″ image_size=”medium” animation_type=”entrance” animation=”None” animation_movement_type=”transform_y” hover_animation=”none” alignment=”center” border_radius=”none” box_shadow=”none” image_loading=”default” max_width=”100%” max_width_mobile=”default”][/vc_column][/vc_row]
URL:https://maranathamichigan.org/event/selah/
LOCATION:Maranatha\, 4759 Lake Harbor Road\, Norton Shores\, MI\, 49441\, United States
CATEGORIES:General,Summer Concert Series
ATTACH;FMTTYPE=image/png:https://maranathamichigan.org/wp-content/uploads/2024/09/6.-Selah.png
ORGANIZER;CN="Maranatha":MAILTO:info@maranathamichigan.org
END:VEVENT
END:VCALENDAR