BEGIN:VCALENDAR
VERSION:2.0
PRODID:-//Maranatha Bible Missionary Conference, Vacation &amp; Retreat Center - ECPv6.11.0.1//NONSGML v1.0//EN
CALSCALE:GREGORIAN
METHOD:PUBLISH
X-ORIGINAL-URL:https://maranathamichigan.org
X-WR-CALDESC:Events for Maranatha Bible Missionary Conference, Vacation &amp; Retreat Center
REFRESH-INTERVAL;VALUE=DURATION:PT1H
X-Robots-Tag:noindex
X-PUBLISHED-TTL:PT1H
BEGIN:VTIMEZONE
TZID:America/New_York
BEGIN:DAYLIGHT
TZOFFSETFROM:-0500
TZOFFSETTO:-0400
TZNAME:EDT
DTSTART:20240310T070000
END:DAYLIGHT
BEGIN:STANDARD
TZOFFSETFROM:-0400
TZOFFSETTO:-0500
TZNAME:EST
DTSTART:20241103T060000
END:STANDARD
END:VTIMEZONE
BEGIN:VEVENT
DTSTART;TZID=America/New_York:20240831T190000
DTEND;TZID=America/New_York:20240831T210000
DTSTAMP:20260423T112932
CREATED:20231114T125418Z
LAST-MODIFIED:20240325T192403Z
UID:10000013-1725130800-1725138000@maranathamichigan.org
SUMMARY:Jason Gray
DESCRIPTION:A Christian singer/songwriter\, Jason Gray bridges the gap between inward-thinking contemporary folk and hook-minded pop\, adding his own spiritual perspective to the mix. Gray emerged in the 2000s and gained wider recognition after signing to Centricity Music. He is a two-time ASCAP Performance Award winner and has scored two Top Ten Christian chart hits with “Good to Be Alive” off 2011’s A Way to See in the Dark and “With Every Act of Love” off 2014’s Love Will Have the Final Word. His fifth album\, 2016’s Where the Light Gets In\, peaked at number five on Billboard’s Christian Albums Chart. \nMoved by the straightforward honesty and devotional nature of his songs\, Centricity Music signed Gray in 2006; the label released the heartfelt All the Lovely Losers the following year. The live recording Acoustic Storytime and Everything Sad Is Coming Untrue followed in 2008 and 2009\, respectively. Gray’s singable soul-searching reached its largest audience with the release of 2011’s A Way to See in the Dark\, which landed on the Billboard Top Christian Albums and Heatseekers Albums charts. \nIn addition to his work as a musician\, Gray is a devoted advocate for youths facing hardships\, especially African orphans of AIDS\, through World Vision International’s Hope Initiative. The following year saw him release his first collection of holiday music\, the Cason Cooley-produced Christmas Stories: Repeat the Sounding Joy\, and in 2014 he issued a new studio album\, the chart-topping Love Will Have the Final Word. 2016’s Where the Light Gets In\, his fifth long-player\, debuted at number five on the Billboard Christian Albums chart\, and at 165 on the Billboard Top 200. Following an album recorded with his son Kipper Gray\, he returned in 2019 with Order\, the first of a trilogy of five-song EPs. \nPurchase Dinner Tickets Here
URL:https://maranathamichigan.org/event/jason-gray/
LOCATION:Maranatha\, 4759 Lake Harbor Road\, Norton Shores\, MI\, 49441\, United States
CATEGORIES:General,Summer Concert Series
ATTACH;FMTTYPE=image/jpeg:https://maranathamichigan.org/wp-content/uploads/2023/11/Untitled-design-19.jpg
ORGANIZER;CN="Maranatha":MAILTO:info@maranathamichigan.org
END:VEVENT
END:VCALENDAR