BEGIN:VCALENDAR
VERSION:2.0
PRODID:-//Maranatha Bible Missionary Conference, Vacation &amp; Retreat Center - ECPv6.11.0.1//NONSGML v1.0//EN
CALSCALE:GREGORIAN
METHOD:PUBLISH
X-ORIGINAL-URL:https://maranathamichigan.org
X-WR-CALDESC:Events for Maranatha Bible Missionary Conference, Vacation &amp; Retreat Center
REFRESH-INTERVAL;VALUE=DURATION:PT1H
X-Robots-Tag:noindex
X-PUBLISHED-TTL:PT1H
BEGIN:VTIMEZONE
TZID:America/New_York
BEGIN:DAYLIGHT
TZOFFSETFROM:-0500
TZOFFSETTO:-0400
TZNAME:EDT
DTSTART:20250309T070000
END:DAYLIGHT
BEGIN:STANDARD
TZOFFSETFROM:-0400
TZOFFSETTO:-0500
TZNAME:EST
DTSTART:20251102T060000
END:STANDARD
END:VTIMEZONE
BEGIN:VEVENT
DTSTART;VALUE=DATE:20250921
DTEND;VALUE=DATE:20250925
DTSTAMP:20260424T023350
CREATED:20250716T213450Z
LAST-MODIFIED:20250818T193157Z
UID:10000117-1758412800-1758758399@maranathamichigan.org
SUMMARY:Fall Senior's Retreat
DESCRIPTION:Turn over a new leaf during our annual Fall Senior’s Retreat!  \nEnjoy several days of Bible teaching\, worship\, fellowship\, fun and delicious meals for adults ages 55 years and older. \nFeaturing Bible Teacher Knute Larson & Worship Leader Burt Kettinger with hosts Gary and Diane Feenstra. \nCall 231-798-2161 for Registration to book your reservation! \nSingle: $538 PP \nDouble $454 PP
URL:https://maranathamichigan.org/event/fall-seniors-retreat/
LOCATION:Maranatha\, 4759 Lake Harbor Road\, Norton Shores\, MI\, 49441\, United States
CATEGORIES:General
ATTACH;FMTTYPE=image/png:https://maranathamichigan.org/wp-content/uploads/2025/07/2025-Fall-Seniors.png
ORGANIZER;CN="Maranatha":MAILTO:info@maranathamichigan.org
END:VEVENT
END:VCALENDAR