BEGIN:VCALENDAR
VERSION:2.0
PRODID:-//Maranatha Bible Missionary Conference, Vacation &amp; Retreat Center - ECPv6.11.0.1//NONSGML v1.0//EN
CALSCALE:GREGORIAN
METHOD:PUBLISH
X-WR-CALNAME:Maranatha Bible Missionary Conference, Vacation &amp; Retreat Center
X-ORIGINAL-URL:https://maranathamichigan.org
X-WR-CALDESC:Events for Maranatha Bible Missionary Conference, Vacation &amp; Retreat Center
REFRESH-INTERVAL;VALUE=DURATION:PT1H
X-Robots-Tag:noindex
X-PUBLISHED-TTL:PT1H
BEGIN:VTIMEZONE
TZID:UTC
BEGIN:STANDARD
TZOFFSETFROM:+0000
TZOFFSETTO:+0000
TZNAME:UTC
DTSTART:20250101T000000
END:STANDARD
END:VTIMEZONE
BEGIN:VTIMEZONE
TZID:America/New_York
BEGIN:DAYLIGHT
TZOFFSETFROM:-0500
TZOFFSETTO:-0400
TZNAME:EDT
DTSTART:20250309T070000
END:DAYLIGHT
BEGIN:STANDARD
TZOFFSETFROM:-0400
TZOFFSETTO:-0500
TZNAME:EST
DTSTART:20251102T060000
END:STANDARD
END:VTIMEZONE
BEGIN:VEVENT
DTSTART;VALUE=DATE:20250719
DTEND;VALUE=DATE:20250727
DTSTAMP:20260421T083231
CREATED:20240930T155907Z
LAST-MODIFIED:20250720T130419Z
UID:10000065-1752883200-1753574399@maranathamichigan.org
SUMMARY:Mark Vroegop - Week Five
DESCRIPTION:Mark Vroegop is the president of the Gospel Coalition and the author of four books\, including “Dark Clouds\, Deep Mercy”\, which won the ECPA 2020 Christian Book of the Year. Mark is known for his insightful teaching on the grace of lament and trusting God in uncertainty. He is a frequent conference speaker and former lead Pastor of College Park Church in Indianapolis. Mark is married to Sarah\, and they have three married sons\, a daughter\, and two grandchildren. \n\nMission of the week: \n\nInternational Needs and Living Threads \nInternational Needs and Living Threads support homegrown missionaries with the resources and support to evangelize to their own people in some of the hardest-to-reach areas of the world.
URL:https://maranathamichigan.org/event/mark-vroegop-week-five/
LOCATION:Maranatha\, 4759 Lake Harbor Road\, Norton Shores\, MI\, 49441\, United States
CATEGORIES:Summer Speakers & Missions
ATTACH;FMTTYPE=image/png:https://maranathamichigan.org/wp-content/uploads/2024/09/Vroegop.png
ORGANIZER;CN="Maranatha":MAILTO:info@maranathamichigan.org
END:VEVENT
BEGIN:VEVENT
DTSTART;VALUE=DATE:20250719
DTEND;VALUE=DATE:20250727
DTSTAMP:20260421T083231
CREATED:20240930T160151Z
LAST-MODIFIED:20240930T160151Z
UID:10000066-1752883200-1753574399@maranathamichigan.org
SUMMARY:Philip Miller - Week Five
DESCRIPTION:Philip Miller is the 17th Senior Pastor of The Moody Church in Chicago. He and his wife\, Krista\, are graduates of Cedarville University and Dallas Theological Seminary. Philip is dedicated to proclaiming God’s Word and developing future leaders. He enjoys cycling on the Chicago lakefront and indulging in local culinary favorites. Philip and Krista have four children and reside in Chicago\, where he can be heard on the weekly “Moody Church Hour” radio broadcast. \n\nMission of the week: \n\nInternational Needs and Living Threads \nInternational Needs and Living Threads support homegrown missionaries with the resources and support to evangelize to their own people in some of the hardest-to-reach areas of the world.
URL:https://maranathamichigan.org/event/philip-miller-week-five/
LOCATION:Maranatha\, 4759 Lake Harbor Road\, Norton Shores\, MI\, 49441\, United States
CATEGORIES:Summer Speakers & Missions
ATTACH;FMTTYPE=image/png:https://maranathamichigan.org/wp-content/uploads/2024/09/Miller.png
ORGANIZER;CN="Maranatha":MAILTO:info@maranathamichigan.org
END:VEVENT
BEGIN:VEVENT
DTSTART;VALUE=DATE:20250726
DTEND;VALUE=DATE:20250803
DTSTAMP:20260421T083231
CREATED:20240930T160315Z
LAST-MODIFIED:20240930T160315Z
UID:10000067-1753488000-1754179199@maranathamichigan.org
SUMMARY:Crawford Loritts - Week Six
DESCRIPTION:Crawford Loritts is a veteran pastor\, author\, and speaker who has traveled extensively\, sharing the Gospel and equipping Christian leaders. He served for 27 years with Cru and 15 years as Senior Pastor of Fellowship Bible Church in Roswell\, Georgia. Crawford is the author of nine books and the host of two national radio programs. He and his wife\, Karen\, have been married for over 50 years and have four children and eleven grandchildren. Crawford is committed to mentoring the next generation of Christian leaders through his organization\, Beyond Our Generation. \n\nMission of the week: \n\nT.A.C.T.I.C.A. Ministries \nThe mission of TACTICA is to fulfill the Great Commission by investing into the lives of Central American authorities and their families\, through high-quality police training\, evangelism\, and discipleship.
URL:https://maranathamichigan.org/event/crawford-loritts-week-six/
LOCATION:Maranatha\, 4759 Lake Harbor Road\, Norton Shores\, MI\, 49441\, United States
CATEGORIES:Summer Speakers & Missions
ATTACH;FMTTYPE=image/png:https://maranathamichigan.org/wp-content/uploads/2024/09/Crawford.png
ORGANIZER;CN="Maranatha":MAILTO:info@maranathamichigan.org
END:VEVENT
BEGIN:VEVENT
DTSTART;VALUE=DATE:20250726
DTEND;VALUE=DATE:20250803
DTSTAMP:20260421T083231
CREATED:20240930T160346Z
LAST-MODIFIED:20240930T160346Z
UID:10000068-1753488000-1754179199@maranathamichigan.org
SUMMARY:Bryndan Loritts - Week Six
DESCRIPTION:Bryndan Loritts\, son of Dr. Crawford and Karen Loritts\, is the Lead Pastor of Woodside Bible Church’s Pontiac Campus. With a rich spiritual heritage\, Bryndan has served in various pastoral roles across the U.S. He holds a master’s degree from Trinity Evangelical Divinity School and is currently pursuing a Doctorate in Biblical Preaching. Bryndan is passionate about preaching the Word of God and fulfilling God’s purpose in his generation. He is married to Lucretia\, and they have three daughters. \n\nMission of the week: \n\nT.A.C.T.I.C.A. Ministries \nThe mission of TACTICA is to fulfill the Great Commission by investing into the lives of Central American authorities and their families\, through high-quality police training\, evangelism\, and discipleship.
URL:https://maranathamichigan.org/event/bryndan-loritts-week-six/
LOCATION:Maranatha\, 4759 Lake Harbor Road\, Norton Shores\, MI\, 49441\, United States
CATEGORIES:Summer Speakers & Missions
ATTACH;FMTTYPE=image/png:https://maranathamichigan.org/wp-content/uploads/2024/09/Bryndan.png
ORGANIZER;CN="Maranatha":MAILTO:info@maranathamichigan.org
END:VEVENT
BEGIN:VEVENT
DTSTART;TZID=America/New_York:20250726T190000
DTEND;TZID=America/New_York:20250726T210000
DTSTAMP:20260421T083231
CREATED:20240930T163540Z
LAST-MODIFIED:20250617T183136Z
UID:10000075-1753556400-1753563600@maranathamichigan.org
SUMMARY:The Martins
DESCRIPTION:[vc_row type=”in_container” full_screen_row_position=”middle” column_margin=”default” column_direction=”default” column_direction_tablet=”default” column_direction_phone=”default” scene_position=”center” text_color=”dark” text_align=”left” row_border_radius=”none” row_border_radius_applies=”bg” overflow=”visible” overlay_strength=”0.3″ gradient_direction=”left_to_right” shape_divider_position=”bottom” bg_image_animation=”none”][vc_column column_padding=”no-extra-padding” column_padding_tablet=”inherit” column_padding_phone=”inherit” column_padding_position=”all” column_element_direction_desktop=”default” column_element_spacing=”default” desktop_text_alignment=”default” tablet_text_alignment=”default” phone_text_alignment=”default” background_color_opacity=”1″ background_hover_color_opacity=”1″ column_backdrop_filter=”none” column_shadow=”none” column_border_radius=”none” column_link_target=”_self” column_position=”default” gradient_direction=”left_to_right” overlay_strength=”0.3″ width=”1/1″ tablet_width_inherit=”default” animation_type=”default” bg_image_animation=”none” border_type=”simple” column_border_width=”none” column_border_style=”solid”][vc_column_text text_direction=”default”]Siblings Joyce\, Jonathan\, and Judy\, known as The Martins\, have captivated audiences worldwide with their stunning and distinctive harmonies. Rising to prominence in the 1990s\, The Martins have performed at concert halls\, arenas\, and churches around the globe\, including notable venues like the White House and Carnegie Hall. They are well-known from Bill Gaither’s award-winning Homecoming series. The trio has garnered eight Dove Awards and a Grammy nomination over the years\, solidifying their place in Christian music. \nSaturday Night Concert Dinners are non-refundable and non-transferable to other Saturday Night Concert Dinners.\n[/vc_column_text][nectar_btn size=”jumbo” button_style=”regular” button_color_2=”Accent-Color” color_override=”#175f48″ solid_text_color_override=”#ffffff” icon_family=”none” text=”Purchase Dinner & Early Entry Tickets Here” url=”https://maranathamichigan.churchcenter.com/registrations/events/2885491″][/vc_column][/vc_row][vc_row type=”in_container” full_screen_row_position=”middle” column_margin=”default” column_direction=”default” column_direction_tablet=”default” column_direction_phone=”default” scene_position=”center” text_color=”dark” text_align=”left” row_border_radius=”none” row_border_radius_applies=”bg” overflow=”visible” overlay_strength=”0.3″ gradient_direction=”left_to_right” shape_divider_position=”bottom” bg_image_animation=”none”][vc_column column_padding=”no-extra-padding” column_padding_tablet=”inherit” column_padding_phone=”inherit” column_padding_position=”all” column_element_direction_desktop=”default” column_element_spacing=”default” desktop_text_alignment=”default” tablet_text_alignment=”default” phone_text_alignment=”default” background_color_opacity=”1″ background_hover_color_opacity=”1″ column_backdrop_filter=”none” column_shadow=”none” column_border_radius=”none” column_link_target=”_self” column_position=”default” gradient_direction=”left_to_right” overlay_strength=”0.3″ width=”1/1″ tablet_width_inherit=”default” animation_type=”default” bg_image_animation=”none” border_type=”simple” column_border_width=”none” column_border_style=”solid”][image_with_animation image_url=”7255″ image_size=”medium” animation_type=”entrance” animation=”None” animation_movement_type=”transform_y” hover_animation=”none” alignment=”center” border_radius=”none” box_shadow=”none” image_loading=”default” max_width=”100%” max_width_mobile=”default”][/vc_column][/vc_row]
URL:https://maranathamichigan.org/event/the-martins/
LOCATION:Maranatha\, 4759 Lake Harbor Road\, Norton Shores\, MI\, 49441\, United States
CATEGORIES:General,Summer Concert Series
ATTACH;FMTTYPE=image/png:https://maranathamichigan.org/wp-content/uploads/2024/09/4.-The-Martins.png
ORGANIZER;CN="Maranatha":MAILTO:info@maranathamichigan.org
END:VEVENT
END:VCALENDAR