BEGIN:VCALENDAR
VERSION:2.0
PRODID:-//Maranatha Bible Missionary Conference, Vacation &amp; Retreat Center - ECPv6.11.0.1//NONSGML v1.0//EN
CALSCALE:GREGORIAN
METHOD:PUBLISH
X-WR-CALNAME:Maranatha Bible Missionary Conference, Vacation &amp; Retreat Center
X-ORIGINAL-URL:https://maranathamichigan.org
X-WR-CALDESC:Events for Maranatha Bible Missionary Conference, Vacation &amp; Retreat Center
REFRESH-INTERVAL;VALUE=DURATION:PT1H
X-Robots-Tag:noindex
X-PUBLISHED-TTL:PT1H
BEGIN:VTIMEZONE
TZID:UTC
BEGIN:STANDARD
TZOFFSETFROM:+0000
TZOFFSETTO:+0000
TZNAME:UTC
DTSTART:20250101T000000
END:STANDARD
END:VTIMEZONE
BEGIN:VEVENT
DTSTART;VALUE=DATE:20250719
DTEND;VALUE=DATE:20250727
DTSTAMP:20260421T095714
CREATED:20240930T155907Z
LAST-MODIFIED:20250720T130419Z
UID:10000065-1752883200-1753574399@maranathamichigan.org
SUMMARY:Mark Vroegop - Week Five
DESCRIPTION:Mark Vroegop is the president of the Gospel Coalition and the author of four books\, including “Dark Clouds\, Deep Mercy”\, which won the ECPA 2020 Christian Book of the Year. Mark is known for his insightful teaching on the grace of lament and trusting God in uncertainty. He is a frequent conference speaker and former lead Pastor of College Park Church in Indianapolis. Mark is married to Sarah\, and they have three married sons\, a daughter\, and two grandchildren. \n\nMission of the week: \n\nInternational Needs and Living Threads \nInternational Needs and Living Threads support homegrown missionaries with the resources and support to evangelize to their own people in some of the hardest-to-reach areas of the world.
URL:https://maranathamichigan.org/event/mark-vroegop-week-five/
LOCATION:Maranatha\, 4759 Lake Harbor Road\, Norton Shores\, MI\, 49441\, United States
CATEGORIES:Summer Speakers & Missions
ATTACH;FMTTYPE=image/png:https://maranathamichigan.org/wp-content/uploads/2024/09/Vroegop.png
ORGANIZER;CN="Maranatha":MAILTO:info@maranathamichigan.org
END:VEVENT
BEGIN:VEVENT
DTSTART;VALUE=DATE:20250719
DTEND;VALUE=DATE:20250727
DTSTAMP:20260421T095714
CREATED:20240930T160151Z
LAST-MODIFIED:20240930T160151Z
UID:10000066-1752883200-1753574399@maranathamichigan.org
SUMMARY:Philip Miller - Week Five
DESCRIPTION:Philip Miller is the 17th Senior Pastor of The Moody Church in Chicago. He and his wife\, Krista\, are graduates of Cedarville University and Dallas Theological Seminary. Philip is dedicated to proclaiming God’s Word and developing future leaders. He enjoys cycling on the Chicago lakefront and indulging in local culinary favorites. Philip and Krista have four children and reside in Chicago\, where he can be heard on the weekly “Moody Church Hour” radio broadcast. \n\nMission of the week: \n\nInternational Needs and Living Threads \nInternational Needs and Living Threads support homegrown missionaries with the resources and support to evangelize to their own people in some of the hardest-to-reach areas of the world.
URL:https://maranathamichigan.org/event/philip-miller-week-five/
LOCATION:Maranatha\, 4759 Lake Harbor Road\, Norton Shores\, MI\, 49441\, United States
CATEGORIES:Summer Speakers & Missions
ATTACH;FMTTYPE=image/png:https://maranathamichigan.org/wp-content/uploads/2024/09/Miller.png
ORGANIZER;CN="Maranatha":MAILTO:info@maranathamichigan.org
END:VEVENT
BEGIN:VEVENT
DTSTART;TZID=UTC:20250720T120000
DTEND;TZID=UTC:20250720T140000
DTSTAMP:20260421T095714
CREATED:20250110T145046Z
LAST-MODIFIED:20250415T141550Z
UID:10000100-1753012800-1753020000@maranathamichigan.org
SUMMARY:Sunday Brunch July 20\, 2025
DESCRIPTION:[vc_row type=”in_container” full_screen_row_position=”middle” column_margin=”default” column_direction=”default” column_direction_tablet=”default” column_direction_phone=”default” scene_position=”center” text_color=”dark” text_align=”left” row_border_radius=”none” row_border_radius_applies=”bg” overflow=”visible” overlay_strength=”0.3″ gradient_direction=”left_to_right” shape_divider_position=”bottom” bg_image_animation=”none”][vc_column column_padding=”no-extra-padding” column_padding_tablet=”inherit” column_padding_phone=”inherit” column_padding_position=”all” column_element_direction_desktop=”default” column_element_spacing=”default” desktop_text_alignment=”default” tablet_text_alignment=”default” phone_text_alignment=”default” background_color_opacity=”1″ background_hover_color_opacity=”1″ column_backdrop_filter=”none” column_shadow=”none” column_border_radius=”none” column_link_target=”_self” column_position=”default” gradient_direction=”left_to_right” overlay_strength=”0.3″ width=”1/1″ tablet_width_inherit=”default” animation_type=”default” bg_image_animation=”none” border_type=”simple” column_border_width=”none” column_border_style=”solid”][vc_column_text text_direction=”default”]Maranatha Sunday Brunch \nAdults: $33.75 \nChildren (5-11): $16.50 \nChildren 0-4: Free \n  \nSunday Brunches are non-refundable and non-transferable to other Sunday Brunches.\n[/vc_column_text][nectar_btn size=”jumbo” button_style=”regular” button_color_2=”Accent-Color” color_override=”#175f48″ solid_text_color_override=”#ffffff” icon_family=”none” text=”Purchase Tickets” url=”https://maranathamichigan.churchcenter.com/registrations/events/2885592″][/vc_column][/vc_row]
URL:https://maranathamichigan.org/event/sunday-brunch-july-20-2025/
LOCATION:MI
CATEGORIES:General,Sunday Brunch
ATTACH;FMTTYPE=image/png:https://maranathamichigan.org/wp-content/uploads/2024/10/6-1.png
END:VEVENT
END:VCALENDAR