BEGIN:VCALENDAR
VERSION:2.0
PRODID:-//Maranatha Bible Missionary Conference, Vacation &amp; Retreat Center - ECPv6.11.0.1//NONSGML v1.0//EN
CALSCALE:GREGORIAN
METHOD:PUBLISH
X-WR-CALNAME:Maranatha Bible Missionary Conference, Vacation &amp; Retreat Center
X-ORIGINAL-URL:https://maranathamichigan.org
X-WR-CALDESC:Events for Maranatha Bible Missionary Conference, Vacation &amp; Retreat Center
REFRESH-INTERVAL;VALUE=DURATION:PT1H
X-Robots-Tag:noindex
X-PUBLISHED-TTL:PT1H
BEGIN:VTIMEZONE
TZID:UTC
BEGIN:STANDARD
TZOFFSETFROM:+0000
TZOFFSETTO:+0000
TZNAME:UTC
DTSTART:20250101T000000
END:STANDARD
END:VTIMEZONE
BEGIN:VTIMEZONE
TZID:America/Detroit
BEGIN:DAYLIGHT
TZOFFSETFROM:-0500
TZOFFSETTO:-0400
TZNAME:EDT
DTSTART:20250309T070000
END:DAYLIGHT
BEGIN:STANDARD
TZOFFSETFROM:-0400
TZOFFSETTO:-0500
TZNAME:EST
DTSTART:20251102T060000
END:STANDARD
END:VTIMEZONE
BEGIN:VEVENT
DTSTART;VALUE=DATE:20250712
DTEND;VALUE=DATE:20250720
DTSTAMP:20260421T084447
CREATED:20240930T155621Z
LAST-MODIFIED:20240930T155644Z
UID:10000063-1752278400-1752969599@maranathamichigan.org
SUMMARY:Karl Clauson - Week Four
DESCRIPTION:Karl Clauson is the host of Moody Radio’s “Karl and Crew” and the Lead Pastor of 180 Chicago Church. A man of action and faith\, Karl completed the 1\,100-mile Iditarod in Alaska at 18 before dedicating his life to ministry in 1984. His mission is to inspire a spiritual revolution within the church. Karl is the author of “The 7 Resolutions” and “Killing Sin”\, where he explores the power of God over self-help. He and his wife\, Junanne\, have been married for 37 years and have two adult children. \n\nMission of the week: \n\nYouth For Christ – West Michigan \nYFC is a movement that reaches young people everywhere with the hope of Christ. We work with the local church and other like-minded partners to raise up lifelong followers of Jesus who lead by their godliness in lifestyle\, devotion to the Word of God and prayer\, passion for sharing the love of Christ\, and commitment to social involvement.
URL:https://maranathamichigan.org/event/karl-clauson-week-four/
LOCATION:Maranatha\, 4759 Lake Harbor Road\, Norton Shores\, MI\, 49441\, United States
CATEGORIES:Summer Speakers & Missions
ATTACH;FMTTYPE=image/png:https://maranathamichigan.org/wp-content/uploads/2024/09/Clauson.png
ORGANIZER;CN="Maranatha":MAILTO:info@maranathamichigan.org
END:VEVENT
BEGIN:VEVENT
DTSTART;VALUE=DATE:20250712
DTEND;VALUE=DATE:20250720
DTSTAMP:20260421T084447
CREATED:20240930T155741Z
LAST-MODIFIED:20240930T155741Z
UID:10000064-1752278400-1752969599@maranathamichigan.org
SUMMARY:Josh Stephens - Week Four
DESCRIPTION:Dr. Josh Stephens is the Lead Pastor of Cape Bible Chapel in Missouri and the Founder/Executive Director of the Biblical Counseling Alliance. With over 25 years of ministry experience\, Josh holds advanced degrees in Biblical Counseling and Divinity. He is a certified Biblical Counselor with a passion for discipleship and equipping others in the faith. Josh and his wife\, Michelle\, have been married for 26 years and are blessed with five children. \n\nMission of the week: \n\nYouth For Christ – West Michigan \nYFC is a movement that reaches young people everywhere with the hope of Christ. We work with the local church and other like-minded partners to raise up lifelong followers of Jesus who lead by their godliness in lifestyle\, devotion to the Word of God and prayer\, passion for sharing the love of Christ\, and commitment to social involvement.
URL:https://maranathamichigan.org/event/josh-stephens-week-four/
LOCATION:Maranatha\, 4759 Lake Harbor Road\, Norton Shores\, MI\, 49441\, United States
CATEGORIES:Summer Speakers & Missions
ATTACH;FMTTYPE=image/png:https://maranathamichigan.org/wp-content/uploads/2024/09/Stephens.png
ORGANIZER;CN="Maranatha":MAILTO:info@maranathamichigan.org
END:VEVENT
BEGIN:VEVENT
DTSTART;TZID=America/Detroit:20250717T093000
DTEND;TZID=America/Detroit:20250717T153000
DTSTAMP:20260421T084447
CREATED:20240715T195809Z
LAST-MODIFIED:20250711T211329Z
UID:10000054-1752744600-1752766200@maranathamichigan.org
SUMMARY:Women's Summer Breakaway 2025 - SOLD OUT
DESCRIPTION:[vc_row type=”in_container” full_screen_row_position=”middle” column_margin=”default” column_direction=”default” column_direction_tablet=”default” column_direction_phone=”default” scene_position=”center” text_color=”dark” text_align=”left” row_border_radius=”none” row_border_radius_applies=”bg” overflow=”visible” overlay_strength=”0.3″ gradient_direction=”left_to_right” shape_divider_position=”bottom” bg_image_animation=”none”][vc_column column_padding=”no-extra-padding” column_padding_tablet=”inherit” column_padding_phone=”inherit” column_padding_position=”all” column_element_direction_desktop=”default” column_element_spacing=”default” desktop_text_alignment=”default” tablet_text_alignment=”default” phone_text_alignment=”default” background_color_opacity=”1″ background_hover_color_opacity=”1″ column_backdrop_filter=”none” column_shadow=”none” column_border_radius=”none” column_link_target=”_self” column_position=”default” gradient_direction=”left_to_right” overlay_strength=”0.3″ width=”1/1″ tablet_width_inherit=”default” animation_type=”default” bg_image_animation=”none” border_type=”simple” column_border_width=”none” column_border_style=”solid”][vc_column_text css=”” text_direction=”default”]\nJuly 17\, 2025\nJennifer Rothschild – Speaker \nAt the age of fifteen\, Jennifer was diagnosed with a rare\, degenerative eye disease that would eventually steal her sight. Her dreams of becoming an artist and cartoonist faded. Words and music have replaced her canvas and palette for more than 30 years. Jennifer is known for her substance\, signature wit\, and down-to-earth style. A unique mix of profound and playful\, she weaves biblical truth with relatable stories\, making God’s Word accessible to those just starting out in Scripture and endearing to those who have walked with Christ for years. Jennifer is also the founder and host of Fresh Grounded Faith events and the womensministry.net Leadership Library\, which equips women in ministry to lead well. \nRachel Thompson – Mission Speaker \nRachel Thompson is the cofounder of OneWay Ministries\, which she and her husband\, Michael\, launched after serving as missionaries in Ghana\, West Africa. Through missions and media\, OneWay seeks to reach the lost and mobilize the church for the Great Commission through ministries such as Prayercast\, Mission Network News\, OneWay Africa\, and Heart Bible for the Nations (owm.org).  Rachel holds a BA in Christian Education from Wheaton College and is the author of Letters to Erin: Inviting Younger Women to Live Wholly and Fruitfully for God. She is also a singer-songwriter who especially loves setting Scripture to music. She and Michael have been married for 32 years and have eight children. \n  \nThe Sessions: \n2025 Session details coming soon. \nRegistration – $50 includes lunch. \nGroup discounts for groups of 10 or more available. Call the Front Desk to book. \nWomen’s Summer Breakaway tickets are non-refundable and non-transferable to other events.\n[/vc_column_text][nectar_btn size=”jumbo” button_style=”regular” button_color_2=”Accent-Color” solid_text_color_override=”#ffffff” icon_family=”default_arrow” text=”Register Here” url=”https://maranathamichigan.churchcenter.com/registrations/events/2859617″][/vc_column][/vc_row]
URL:https://maranathamichigan.org/event/womens-summer-breakaway-2025/
LOCATION:Maranatha\, 4759 Lake Harbor Road\, Norton Shores\, MI\, 49441\, United States
CATEGORIES:General,Retreats
ORGANIZER;CN="Maranatha":MAILTO:info@maranathamichigan.org
END:VEVENT
END:VCALENDAR