BEGIN:VCALENDAR
VERSION:2.0
PRODID:-//Maranatha Bible Missionary Conference, Vacation &amp; Retreat Center - ECPv6.11.0.1//NONSGML v1.0//EN
CALSCALE:GREGORIAN
METHOD:PUBLISH
X-WR-CALNAME:Maranatha Bible Missionary Conference, Vacation &amp; Retreat Center
X-ORIGINAL-URL:https://maranathamichigan.org
X-WR-CALDESC:Events for Maranatha Bible Missionary Conference, Vacation &amp; Retreat Center
REFRESH-INTERVAL;VALUE=DURATION:PT1H
X-Robots-Tag:noindex
X-PUBLISHED-TTL:PT1H
BEGIN:VTIMEZONE
TZID:UTC
BEGIN:STANDARD
TZOFFSETFROM:+0000
TZOFFSETTO:+0000
TZNAME:UTC
DTSTART:20250101T000000
END:STANDARD
END:VTIMEZONE
BEGIN:VTIMEZONE
TZID:America/New_York
BEGIN:DAYLIGHT
TZOFFSETFROM:-0500
TZOFFSETTO:-0400
TZNAME:EDT
DTSTART:20250309T070000
END:DAYLIGHT
BEGIN:STANDARD
TZOFFSETFROM:-0400
TZOFFSETTO:-0500
TZNAME:EST
DTSTART:20251102T060000
END:STANDARD
END:VTIMEZONE
BEGIN:VEVENT
DTSTART;VALUE=DATE:20250705
DTEND;VALUE=DATE:20250713
DTSTAMP:20260421T083137
CREATED:20240930T155126Z
LAST-MODIFIED:20240930T155211Z
UID:10000061-1751673600-1752364799@maranathamichigan.org
SUMMARY:Chris Brooks - Week Three
DESCRIPTION:Chris Brooks is the Senior Pastor at Woodside Bible Church\, a multi-campus congregation in Metro Detroit\, and the host of the nationally syndicated radio program “Equipped with Chris Brooks.” With a background in finance and a strong theological education from Biola University and the Oxford Centre for Christian Apologetics\, Chris is deeply invested in the integration of faith and public life. He is the author of “Kingdom Dreaming\,” and “Urban Apologetics.” Chris and his wife\, Yodit are the proud parents of six children. \n\nMission of the week: \n\nAlpha Ministries \nAlpha Ministries’ mission is to make the Love of Christ known in places where people have never heard the Gospel by mobilizing national messengers to accomplish God’s global agenda among the least-reached.
URL:https://maranathamichigan.org/event/chris-brooks-week-three/
LOCATION:Maranatha\, 4759 Lake Harbor Road\, Norton Shores\, MI\, 49441\, United States
CATEGORIES:Summer Speakers & Missions
ATTACH;FMTTYPE=image/png:https://maranathamichigan.org/wp-content/uploads/2024/09/Brooks.png
ORGANIZER;CN="Maranatha":MAILTO:info@maranathamichigan.org
END:VEVENT
BEGIN:VEVENT
DTSTART;VALUE=DATE:20250705
DTEND;VALUE=DATE:20250713
DTSTAMP:20260421T083137
CREATED:20240930T155236Z
LAST-MODIFIED:20250226T171835Z
UID:10000062-1751673600-1752364799@maranathamichigan.org
SUMMARY:Abdu Murray - Week Three
DESCRIPTION:Abdu Murray is a speaker\, author\, and attorney who engages with the intersection of religious faith and contemporary cultural trends. As the founder of Embrace the Truth\, he has spent decades exploring how different worldviews address modern challenges. Abdu has written four books\, including “Saving Truth” and “More Than a White Man’s Religion.” He is a seasoned debater\, having spoken at prestigious universities and with global leaders. Abdu’s insights have been featured in prominent media outlets\, and he hosts several popular podcasts and YouTube shows. He lives in Metro Detroit with his wife and three children. \n\nMission of the week: \n\nAlpha Ministries \nAlpha Ministries’ mission is to make the Love of Christ known in places where people have never heard the Gospel by mobilizing national messengers to accomplish God’s global agenda among the least-reached.
URL:https://maranathamichigan.org/event/abdu-murray-week-three/
LOCATION:Maranatha\, 4759 Lake Harbor Road\, Norton Shores\, MI\, 49441\, United States
CATEGORIES:Summer Speakers & Missions
ATTACH;FMTTYPE=image/png:https://maranathamichigan.org/wp-content/uploads/2024/09/Murray.png
ORGANIZER;CN="Maranatha":MAILTO:info@maranathamichigan.org
END:VEVENT
BEGIN:VEVENT
DTSTART;VALUE=DATE:20250705
DTEND;VALUE=DATE:20250713
DTSTAMP:20260421T083137
CREATED:20250522T190924Z
LAST-MODIFIED:20250522T191938Z
UID:10000107-1751673600-1752364799@maranathamichigan.org
SUMMARY:Bill Crowder - Week Three
DESCRIPTION:Bill Crowder has recently retired from the Our Daily Bread Ministries staff. He continues to write for the Our Daily Bread devotional and has written many Bible study booklets for ODBM’s Discovery Series. He has also published a number of books with Our Daily Bread Publishing\, the latest being Joseph and Wisdom for our Worries. Bill also serves as a co-host with Elisa Morgan\, Rasool Berry\, and Daniel Ryan Day on the “Discover the Word” daily radio program\, heard nationwide.On the personal front\, Bill and his wife\, Marlene\, have been married for over 40 years and have five adult children and nine grandchildren. To relax\, Bill enjoys playing golf whenever possible\, and follows sports\, especially the English Premier League’s Liverpool Football Club. \n\nMission of the week: \n\nAlpha Ministries \nAlpha Ministries’ mission is to make the Love of Christ known in places where people have never heard the Gospel by mobilizing national messengers to accomplish God’s global agenda among the least-reached.
URL:https://maranathamichigan.org/event/bill-crowder-week-three/
LOCATION:Maranatha\, 4759 Lake Harbor Road\, Norton Shores\, MI\, 49441\, United States
CATEGORIES:Summer Speakers & Missions
ATTACH;FMTTYPE=image/png:https://maranathamichigan.org/wp-content/uploads/2025/05/Bill-Crowder-promo-pic-copy20.png
ORGANIZER;CN="Maranatha":MAILTO:info@maranathamichigan.org
END:VEVENT
BEGIN:VEVENT
DTSTART;TZID=America/New_York:20250705T190000
DTEND;TZID=America/New_York:20250705T210000
DTSTAMP:20260421T083137
CREATED:20240930T164205Z
LAST-MODIFIED:20250617T183008Z
UID:10000076-1751742000-1751749200@maranathamichigan.org
SUMMARY:Sara Groves
DESCRIPTION:[vc_row type=”in_container” full_screen_row_position=”middle” column_margin=”default” column_direction=”default” column_direction_tablet=”default” column_direction_phone=”default” scene_position=”center” text_color=”dark” text_align=”left” row_border_radius=”none” row_border_radius_applies=”bg” overflow=”visible” overlay_strength=”0.3″ gradient_direction=”left_to_right” shape_divider_position=”bottom” bg_image_animation=”none”][vc_column column_padding=”no-extra-padding” column_padding_tablet=”inherit” column_padding_phone=”inherit” column_padding_position=”all” column_element_direction_desktop=”default” column_element_spacing=”default” desktop_text_alignment=”default” tablet_text_alignment=”default” phone_text_alignment=”default” background_color_opacity=”1″ background_hover_color_opacity=”1″ column_backdrop_filter=”none” column_shadow=”none” column_border_radius=”none” column_link_target=”_self” column_position=”default” gradient_direction=”left_to_right” overlay_strength=”0.3″ width=”1/1″ tablet_width_inherit=”default” animation_type=”default” bg_image_animation=”none” border_type=”simple” column_border_width=”none” column_border_style=”solid”][vc_column_text]With over 25 years of experience as a singer-songwriter and recording artist\, Sara Groves has a deep passion for justice. Since 2005\, she has served as an artist advocate with International Justice Mission\, working to protect the poor from violence. In 2011\, Sara and her husband\, Troy\, founded Art House North\, a community art center in a restored 100-year-old church. Her 14th album\, What Makes It Through\, reflects on the stories we tell ourselves and their role in reconciliation. Sara and Troy live in St. Paul\, Minnesota\, with their three children\, Kirby\, Toby\, and Ruby.[/vc_column_text][nectar_btn size=”jumbo” button_style=”regular” button_color_2=”Accent-Color” color_override=”#175f48″ solid_text_color_override=”#ffffff” icon_family=”none” text=”Purchase Dinner & Early Entry Tickets Here” url=”https://maranathamichigan.churchcenter.com/registrations/events/2885474″][/vc_column][/vc_row][vc_row type=”in_container” full_screen_row_position=”middle” column_margin=”default” column_direction=”default” column_direction_tablet=”default” column_direction_phone=”default” scene_position=”center” text_color=”dark” text_align=”left” row_border_radius=”none” row_border_radius_applies=”bg” overflow=”visible” overlay_strength=”0.3″ gradient_direction=”left_to_right” shape_divider_position=”bottom” bg_image_animation=”none”][vc_column column_padding=”no-extra-padding” column_padding_tablet=”inherit” column_padding_phone=”inherit” column_padding_position=”all” column_element_direction_desktop=”default” column_element_spacing=”default” desktop_text_alignment=”default” tablet_text_alignment=”default” phone_text_alignment=”default” background_color_opacity=”1″ background_hover_color_opacity=”1″ column_backdrop_filter=”none” column_shadow=”none” column_border_radius=”none” column_link_target=”_self” column_position=”default” gradient_direction=”left_to_right” overlay_strength=”0.3″ width=”1/1″ tablet_width_inherit=”default” animation_type=”default” bg_image_animation=”none” border_type=”simple” column_border_width=”none” column_border_style=”solid”][image_with_animation image_url=”7255″ image_size=”medium” animation_type=”entrance” animation=”None” animation_movement_type=”transform_y” hover_animation=”none” alignment=”center” border_radius=”none” box_shadow=”none” image_loading=”default” max_width=”100%” max_width_mobile=”default”][/vc_column][/vc_row]
URL:https://maranathamichigan.org/event/sara-groves/
LOCATION:Maranatha\, 4759 Lake Harbor Road\, Norton Shores\, MI\, 49441\, United States
CATEGORIES:General,Summer Concert Series
ATTACH;FMTTYPE=image/png:https://maranathamichigan.org/wp-content/uploads/2024/09/3.-Sara-Groves.png
ORGANIZER;CN="Maranatha":MAILTO:info@maranathamichigan.org
END:VEVENT
END:VCALENDAR